BEGIN:VCALENDAR
VERSION:2.0
PRODID:-//Plone.org//NONSGML plone.app.event//EN
X-WR-TIMEZONE:Europe/Madrid
BEGIN:VEVENT
SUMMARY:Fiesta Castellera de Sant Jordi
DTSTART;TZID=Europe/Madrid;VALUE=DATE-TIME:20260426T120000
DTEND;TZID=Europe/Madrid;VALUE=DATE-TIME:20260426T130000
DTSTAMP;VALUE=DATE-TIME:20260422T014942Z
UID:7637ab1ab808456cbbbdb4a175341d8f@www.molletvalles.cat
CATEGORIES:Fiestas populares
CREATED;VALUE=DATE-TIME:20260421T065033Z
DESCRIPTION:SANT JORDI 2026
LAST-MODIFIED;VALUE=DATE-TIME:20260421T072117Z
LOCATION:Plaza Prat de la Riba
URL:https://www.molletvalles.cat/es/actualidad/agenda/fiesta-castellera-de
 -sant-jordi-1
END:VEVENT
BEGIN:VTIMEZONE
TZID:Europe/Madrid
X-LIC-LOCATION:Europe/Madrid
BEGIN:DAYLIGHT
DTSTART;VALUE=DATE-TIME:20260329T030000
TZNAME:CEST
TZOFFSETFROM:+0100
TZOFFSETTO:+0200
END:DAYLIGHT
END:VTIMEZONE
END:VCALENDAR
