BEGIN:VCALENDAR
VERSION:2.0
PRODID:-//Plone.org//NONSGML plone.app.event//EN
X-WR-TIMEZONE:Europe/Madrid
BEGIN:VEVENT
SUMMARY:FIESTA DE LA INFANCIA 2023: "telaraña de colores" (Taller creativ
 o participativo)- para todas las edades
DTSTART;VALUE=DATE:20231125
DTEND;VALUE=DATE:20231126
DTSTAMP;VALUE=DATE-TIME:20260419T162007Z
UID:37fa1aee8ec24fdeae5de3ce581b459c@www.molletvalles.cat
CATEGORIES:Cursos y talleres
CREATED;VALUE=DATE-TIME:20231116T091747Z
LAST-MODIFIED;VALUE=DATE-TIME:20231124T124043Z
LOCATION:Parque de Can Mulà
URL:https://www.molletvalles.cat/es/actualidad/agenda/fiesta-de-la-infanci
 a-2023-teranina-de-colores-taller-creativo-participativo-para-todas-las-ed
 ades
END:VEVENT
END:VCALENDAR
