BEGIN:VCALENDAR
VERSION:2.0
PRODID:-//Plone.org//NONSGML plone.app.event//EN
X-WR-TIMEZONE:Europe/Madrid
BEGIN:VEVENT
SUMMARY:FIESTA DE LA TRAMOLLA
DTSTART;TZID=Europe/Madrid;VALUE=DATE-TIME:20260425T103000
DTEND;TZID=Europe/Madrid;VALUE=DATE-TIME:20260425T113000
DTSTAMP;VALUE=DATE-TIME:20260422T225244Z
UID:7876bc4192ba40aa888ac689cc57a280@www.molletvalles.cat
CATEGORIES:Artes escénicas
CREATED;VALUE=DATE-TIME:20260422T115638Z
LAST-MODIFIED;VALUE=DATE-TIME:20260422T115839Z
LOCATION:Parque de Can Mulà
URL:https://www.molletvalles.cat/es/actualidad/agenda/fiesta-de-la-tramoll
 a
END:VEVENT
BEGIN:VTIMEZONE
TZID:Europe/Madrid
X-LIC-LOCATION:Europe/Madrid
BEGIN:DAYLIGHT
DTSTART;VALUE=DATE-TIME:20260329T030000
TZNAME:CEST
TZOFFSETFROM:+0100
TZOFFSETTO:+0200
END:DAYLIGHT
END:VTIMEZONE
END:VCALENDAR
