BEGIN:VCALENDAR
VERSION:2.0
PRODID:-//Plone.org//NONSGML plone.app.event//EN
X-WR-TIMEZONE:Europe/Madrid
BEGIN:VEVENT
SUMMARY:Fiesta del Árbol y la Biodiversidad
DTSTART;TZID=Europe/Madrid;VALUE=DATE-TIME:20260315T110000
DTEND;TZID=Europe/Madrid;VALUE=DATE-TIME:20260315T120000
DTSTAMP;VALUE=DATE-TIME:20260420T075840Z
UID:fc8b2c1e2e584f4abd376e356d79669a@www.molletvalles.cat
CATEGORIES:Fiestas populares
CREATED;VALUE=DATE-TIME:20260305T062747Z
LAST-MODIFIED;VALUE=DATE-TIME:20260305T062806Z
LOCATION:Parque de los Pinetons
URL:https://www.molletvalles.cat/es/actualidad/agenda/fiesta-del-arbol-y-l
 a-biodiversidad-4
END:VEVENT
BEGIN:VTIMEZONE
TZID:Europe/Madrid
X-LIC-LOCATION:Europe/Madrid
BEGIN:STANDARD
DTSTART;VALUE=DATE-TIME:20251026T020000
TZNAME:CET
TZOFFSETFROM:+0200
TZOFFSETTO:+0100
END:STANDARD
END:VTIMEZONE
END:VCALENDAR
