BEGIN:VCALENDAR
VERSION:2.0
PRODID:-//Plone.org//NONSGML plone.app.event//EN
X-WR-TIMEZONE:Europe/Madrid
BEGIN:VEVENT
SUMMARY:Fiesta verde y de la Biodiversidad
DTSTART;VALUE=DATE:20240505
DTEND;VALUE=DATE:20240506
DTSTAMP;VALUE=DATE-TIME:20260421T135949Z
UID:e5528d1dd42f4bafbf074097fbef1e7c@www.molletvalles.cat
CATEGORIES:Medio Ambiente
CREATED;VALUE=DATE-TIME:20240417T065624Z
LAST-MODIFIED;VALUE=DATE-TIME:20240430T122051Z
LOCATION:Parque de Can Borrell
URL:https://www.molletvalles.cat/es/actualidad/agenda/fiesta-verde-y-de-la
 -biodiversidad-1
END:VEVENT
END:VCALENDAR
