BEGIN:VCALENDAR
VERSION:2.0
PRODID:-//Plone.org//NONSGML plone.app.event//EN
X-WR-TIMEZONE:Europe/Madrid
BEGIN:VEVENT
SUMMARY:FOLLIA\, 7 GLOPS DE DELIRI a cargo del Esbart Dansaire de Mollet d
 el Vallès
DTSTART;TZID=Europe/Madrid;VALUE=DATE-TIME:20240121T180000
DTEND;TZID=Europe/Madrid;VALUE=DATE-TIME:20240121T190000
DTSTAMP;VALUE=DATE-TIME:20260423T141438Z
UID:ee2720ad3ba94fbf983f4a5559b9f86c@www.molletvalles.cat
CATEGORIES:Artes escénicas
CREATED;VALUE=DATE-TIME:20231102T120909Z
DESCRIPTION:FIESTA MAYOR DE INVIERNO
LAST-MODIFIED;VALUE=DATE-TIME:20240116T073632Z
URL:https://www.molletvalles.cat/es/actualidad/agenda/follia-7-golpes-de-d
 elirio-a-cargo-del-esbart-dansaire-de-mollet-del-valles
END:VEVENT
BEGIN:VTIMEZONE
TZID:Europe/Madrid
X-LIC-LOCATION:Europe/Madrid
BEGIN:STANDARD
DTSTART;VALUE=DATE-TIME:20231029T020000
TZNAME:CET
TZOFFSETFROM:+0200
TZOFFSETTO:+0100
END:STANDARD
END:VTIMEZONE
END:VCALENDAR
