BEGIN:VCALENDAR
VERSION:2.0
PRODID:-//Plone.org//NONSGML plone.app.event//EN
X-WR-TIMEZONE:Europe/Madrid
BEGIN:VEVENT
SUMMARY:Formación "Aprendemos a buscar Ayudas y subvenciones para empresa
 s y emprendedores"
DTSTART;TZID=Europe/Madrid;VALUE=DATE-TIME:20260506T100000
DTEND;TZID=Europe/Madrid;VALUE=DATE-TIME:20260506T120000
DTSTAMP;VALUE=DATE-TIME:20260422T231359Z
UID:455137fe540542b9bd40dc973c70b33a@www.molletvalles.cat
CATEGORIES:Cursos y talleres
CREATED;VALUE=DATE-TIME:20260422T094316Z
LAST-MODIFIED;VALUE=DATE-TIME:20260422T094336Z
LOCATION:Mollet Hub (Avda. de Jaime I\, 32)
URL:https://www.molletvalles.cat/es/actualidad/agenda/formacion-aprendemos
 -a-buscar-ayudas-y-subvenciones-para-empresas-y-emprendedores
END:VEVENT
BEGIN:VTIMEZONE
TZID:Europe/Madrid
X-LIC-LOCATION:Europe/Madrid
BEGIN:DAYLIGHT
DTSTART;VALUE=DATE-TIME:20260329T030000
TZNAME:CEST
TZOFFSETFROM:+0100
TZOFFSETTO:+0200
END:DAYLIGHT
END:VTIMEZONE
END:VCALENDAR
