BEGIN:VCALENDAR
VERSION:2.0
PRODID:-//Plone.org//NONSGML plone.app.event//EN
X-WR-TIMEZONE:Europe/Madrid
BEGIN:VEVENT
SUMMARY:Formación "De dónde saco el dinero para abrir mi negocio"
DTSTART;TZID=Europe/Madrid;VALUE=DATE-TIME:20260513T100000
DTEND;TZID=Europe/Madrid;VALUE=DATE-TIME:20260513T120000
DTSTAMP;VALUE=DATE-TIME:20260422T230139Z
UID:670acf2cce8e4e1ebf67bf64fcd223dd@www.molletvalles.cat
CATEGORIES:Cursos y talleres
CREATED;VALUE=DATE-TIME:20260422T095658Z
LAST-MODIFIED;VALUE=DATE-TIME:20260422T095706Z
LOCATION:Mollet Hub (Avda. de Jaime I\, 32)
URL:https://www.molletvalles.cat/es/actualidad/agenda/formacion-de-donde-s
 aco-el-dinero-para-abrir-mi-negocio
END:VEVENT
BEGIN:VTIMEZONE
TZID:Europe/Madrid
X-LIC-LOCATION:Europe/Madrid
BEGIN:DAYLIGHT
DTSTART;VALUE=DATE-TIME:20260329T030000
TZNAME:CEST
TZOFFSETFROM:+0100
TZOFFSETTO:+0200
END:DAYLIGHT
END:VTIMEZONE
END:VCALENDAR
