BEGIN:VCALENDAR
VERSION:2.0
PRODID:-//Plone.org//NONSGML plone.app.event//EN
X-WR-TIMEZONE:Europe/Madrid
BEGIN:VEVENT
SUMMARY:Formación "Diseña tu estrategia de marketing con Inteligencia Ar
 tificial"
DTSTART;TZID=Europe/Madrid;VALUE=DATE-TIME:20260514T100000
DTEND;TZID=Europe/Madrid;VALUE=DATE-TIME:20260514T120000
DTSTAMP;VALUE=DATE-TIME:20260422T230204Z
UID:b27ec5d2c4f648c8afc68e74569b7ee0@www.molletvalles.cat
CATEGORIES:Cursos y talleres
CREATED;VALUE=DATE-TIME:20260422T112038Z
LAST-MODIFIED;VALUE=DATE-TIME:20260422T112128Z
LOCATION:Mollet Hub (Avda. de Jaime I\, 32)
URL:https://www.molletvalles.cat/es/actualidad/agenda/formacion-disena-tu-
 estrategia-de-marketing-con-inteligencia-artificial-1
END:VEVENT
BEGIN:VTIMEZONE
TZID:Europe/Madrid
X-LIC-LOCATION:Europe/Madrid
BEGIN:DAYLIGHT
DTSTART;VALUE=DATE-TIME:20260329T030000
TZNAME:CEST
TZOFFSETFROM:+0100
TZOFFSETTO:+0200
END:DAYLIGHT
END:VTIMEZONE
END:VCALENDAR
