BEGIN:VCALENDAR
VERSION:2.0
PRODID:-//Plone.org//NONSGML plone.app.event//EN
X-WR-TIMEZONE:Europe/Madrid
BEGIN:VEVENT
SUMMARY:Formación "Herramientas de comunicación digital para tu empresa"
DTSTART;TZID=Europe/Madrid;VALUE=DATE-TIME:20260512T100000
DTEND;TZID=Europe/Madrid;VALUE=DATE-TIME:20260512T120000
DTSTAMP;VALUE=DATE-TIME:20260420T124414Z
UID:249cdb7553774be48fe6fb19c8bfe51c@www.molletvalles.cat
CATEGORIES:Cursos y talleres
CREATED;VALUE=DATE-TIME:20260417T113637Z
LAST-MODIFIED;VALUE=DATE-TIME:20260417T113648Z
LOCATION:Mollet Hub (Avda. de Jaime I\, 32)
URL:https://www.molletvalles.cat/es/actualidad/agenda/formacion-herramient
 as-de-comunicacion-digital-para-tu-empresa-1
END:VEVENT
BEGIN:VTIMEZONE
TZID:Europe/Madrid
X-LIC-LOCATION:Europe/Madrid
BEGIN:DAYLIGHT
DTSTART;VALUE=DATE-TIME:20260329T030000
TZNAME:CEST
TZOFFSETFROM:+0100
TZOFFSETTO:+0200
END:DAYLIGHT
END:VTIMEZONE
END:VCALENDAR
