BEGIN:VCALENDAR
VERSION:2.0
PRODID:-//Plone.org//NONSGML plone.app.event//EN
X-WR-TIMEZONE:Europe/Madrid
BEGIN:VEVENT
SUMMARY:Formación "Herramientas de comunicación digital para tu empresa"
DTSTART;TZID=Europe/Madrid;VALUE=DATE-TIME:20260224T100000
DTEND;TZID=Europe/Madrid;VALUE=DATE-TIME:20260224T120000
DTSTAMP;VALUE=DATE-TIME:20260421T135920Z
UID:4ffcb9366939438183700a3f9a3c6d97@www.molletvalles.cat
CATEGORIES:Cursos y talleres
CREATED;VALUE=DATE-TIME:20260126T103104Z
LAST-MODIFIED;VALUE=DATE-TIME:20260126T103151Z
LOCATION:Mollet Hub (Avda. de Jaime I\, 32)
URL:https://www.molletvalles.cat/es/actualidad/agenda/formacion-herramient
 as-de-comunicacion-digital-para-tu-empresa
END:VEVENT
BEGIN:VTIMEZONE
TZID:Europe/Madrid
X-LIC-LOCATION:Europe/Madrid
BEGIN:STANDARD
DTSTART;VALUE=DATE-TIME:20251026T020000
TZNAME:CET
TZOFFSETFROM:+0200
TZOFFSETTO:+0100
END:STANDARD
END:VTIMEZONE
END:VCALENDAR
