BEGIN:VCALENDAR
VERSION:2.0
PRODID:-//Plone.org//NONSGML plone.app.event//EN
X-WR-TIMEZONE:Europe/Madrid
BEGIN:VEVENT
SUMMARY:Formación "Innovación en la emprendeduría: Cómo convertir idea
 s en oportunidades"
DTSTART;TZID=Europe/Madrid;VALUE=DATE-TIME:20260305T100000
DTEND;TZID=Europe/Madrid;VALUE=DATE-TIME:20260305T120000
DTSTAMP;VALUE=DATE-TIME:20260421T160418Z
UID:6eb59eb27b004c1786948b598c8ff7ba@www.molletvalles.cat
CATEGORIES:Cursos y talleres
CREATED;VALUE=DATE-TIME:20260128T113357Z
LAST-MODIFIED;VALUE=DATE-TIME:20260128T113438Z
LOCATION:Mollet Hub (Avda. de Jaime I\, 32)
URL:https://www.molletvalles.cat/es/actualidad/agenda/formacion-innovacion
 -en-la-emprendeduria-como-convertir-ideas-en-oportunidades
END:VEVENT
BEGIN:VTIMEZONE
TZID:Europe/Madrid
X-LIC-LOCATION:Europe/Madrid
BEGIN:STANDARD
DTSTART;VALUE=DATE-TIME:20251026T020000
TZNAME:CET
TZOFFSETFROM:+0200
TZOFFSETTO:+0100
END:STANDARD
END:VTIMEZONE
END:VCALENDAR
