BEGIN:VCALENDAR
VERSION:2.0
PRODID:-//Plone.org//NONSGML plone.app.event//EN
X-WR-TIMEZONE:Europe/Madrid
BEGIN:VEVENT
SUMMARY:Gran Baile de  Fiesta de Aniversario de la Asociación de Bailes d
 e Salón
DTSTART;TZID=Europe/Madrid;VALUE=DATE-TIME:20231021T220000
DTEND;TZID=Europe/Madrid;VALUE=DATE-TIME:20231021T230000
DTSTAMP;VALUE=DATE-TIME:20260419T161703Z
UID:aac648e374d2476b8cb80ad91e37771d@www.molletvalles.cat
CATEGORIES:Baile
CREATED;VALUE=DATE-TIME:20230301T111035Z
LAST-MODIFIED;VALUE=DATE-TIME:20230404T081731Z
URL:https://www.molletvalles.cat/es/actualidad/agenda/gran-ball-fiesta-de-
 aniversario-de-la-asociacion-de-bailes-de-salon
END:VEVENT
BEGIN:VTIMEZONE
TZID:Europe/Madrid
X-LIC-LOCATION:Europe/Madrid
BEGIN:DAYLIGHT
DTSTART;VALUE=DATE-TIME:20230326T030000
TZNAME:CEST
TZOFFSETFROM:+0100
TZOFFSETTO:+0200
END:DAYLIGHT
END:VTIMEZONE
END:VCALENDAR
