BEGIN:VCALENDAR
VERSION:2.0
PRODID:-//Plone.org//NONSGML plone.app.event//EN
X-WR-TIMEZONE:Europe/Madrid
BEGIN:VEVENT
SUMMARY:Grupo Taüll. La vanguardia efímera (Visita guiada a cargo de los
  Servicios Educativos del Museu Abelló para conocer la obra nueva exposic
 ión)
DTSTART;TZID=Europe/Madrid;VALUE=DATE-TIME:20250427T111500
DTEND;TZID=Europe/Madrid;VALUE=DATE-TIME:20250427T121500
DTSTAMP;VALUE=DATE-TIME:20260419T162219Z
UID:48ec5183677e4a3b8586b2960b942fd3@www.molletvalles.cat
CATEGORIES:Exposiciones
CREATED;VALUE=DATE-TIME:20250407T102531Z
LAST-MODIFIED;VALUE=DATE-TIME:20250414T095418Z
URL:https://www.molletvalles.cat/es/actualidad/agenda/grupo-taull-la-vangu
 ardia-efimera-visita-guiada-a-cargo-de-los-servicios-educativos-del-museu-
 abello-para-conocer-la-obra-nueva-exposicion
END:VEVENT
BEGIN:VTIMEZONE
TZID:Europe/Madrid
X-LIC-LOCATION:Europe/Madrid
BEGIN:DAYLIGHT
DTSTART;VALUE=DATE-TIME:20250330T030000
TZNAME:CEST
TZOFFSETFROM:+0100
TZOFFSETTO:+0200
END:DAYLIGHT
END:VTIMEZONE
END:VCALENDAR
