BEGIN:VCALENDAR
VERSION:2.0
PRODID:-//Plone.org//NONSGML plone.app.event//EN
X-WR-TIMEZONE:Europe/Madrid
BEGIN:VEVENT
SUMMARY:Gymkhana familiar: Juegos de pistas por el Parque de Can Mulà
DTSTART;TZID=Europe/Madrid;VALUE=DATE-TIME:20230703T183000
DTEND;TZID=Europe/Madrid;VALUE=DATE-TIME:20230703T193000
DTSTAMP;VALUE=DATE-TIME:20260419T162008Z
UID:448e032169e844ff8e2d71308ef6fb2b@www.molletvalles.cat
CATEGORIES:Infantil
CREATED;VALUE=DATE-TIME:20230628T091719Z
LAST-MODIFIED;VALUE=DATE-TIME:20230630T112309Z
LOCATION:Parque de Can Mulà
URL:https://www.molletvalles.cat/es/actualidad/agenda/gymkhana-familiar-ju
 egos-de-pistas-por-el-parque-de-can-mula
END:VEVENT
BEGIN:VTIMEZONE
TZID:Europe/Madrid
X-LIC-LOCATION:Europe/Madrid
BEGIN:DAYLIGHT
DTSTART;VALUE=DATE-TIME:20230326T030000
TZNAME:CEST
TZOFFSETFROM:+0100
TZOFFSETTO:+0200
END:DAYLIGHT
END:VTIMEZONE
END:VCALENDAR
