BEGIN:VCALENDAR
VERSION:2.0
PRODID:-//Plone.org//NONSGML plone.app.event//EN
X-WR-TIMEZONE:Europe/Madrid
BEGIN:VEVENT
SUMMARY:Hablemos de Salud: Alimentación\, dieta y cocina para personas co
 n celiaquía
DTSTART;TZID=Europe/Madrid;VALUE=DATE-TIME:20240627T190000
DTEND;TZID=Europe/Madrid;VALUE=DATE-TIME:20240627T200000
DTSTAMP;VALUE=DATE-TIME:20260421T160415Z
UID:583d5e25edca4c7b8e498577ea9b615f@www.molletvalles.cat
CATEGORIES:Charlas
CREATED;VALUE=DATE-TIME:20240614T101800Z
LAST-MODIFIED;VALUE=DATE-TIME:20240614T114419Z
URL:https://www.molletvalles.cat/es/actualidad/agenda/hablemos-de-salud-al
 imentacion-dieta-y-cocina-para-personas-con-celiaquia
END:VEVENT
BEGIN:VTIMEZONE
TZID:Europe/Madrid
X-LIC-LOCATION:Europe/Madrid
BEGIN:DAYLIGHT
DTSTART;VALUE=DATE-TIME:20240331T030000
TZNAME:CEST
TZOFFSETFROM:+0100
TZOFFSETTO:+0200
END:DAYLIGHT
END:VTIMEZONE
END:VCALENDAR
