BEGIN:VCALENDAR
VERSION:2.0
PRODID:-//Plone.org//NONSGML plone.app.event//EN
X-WR-TIMEZONE:Europe/Madrid
BEGIN:VEVENT
SUMMARY:Hablemos de salud: Charla "Vive sin miedo: Cómo controlar la ansi
 edad en tiempos de incertidumbre"
DTSTART;TZID=Europe/Madrid;VALUE=DATE-TIME:20250327T180000
DTEND;TZID=Europe/Madrid;VALUE=DATE-TIME:20250327T190000
DTSTAMP;VALUE=DATE-TIME:20260425T121805Z
UID:b7da124ab8f94250afff1283c789110b@www.molletvalles.cat
CATEGORIES:Charlas
CREATED;VALUE=DATE-TIME:20250312T065939Z
LAST-MODIFIED;VALUE=DATE-TIME:20250312T070005Z
URL:https://www.molletvalles.cat/es/actualidad/agenda/hablemos-de-salud-ch
 arla-vive-sin-miedo-como-controlar-la-ansiedad-en-tiempos-de-incertidumbre
END:VEVENT
BEGIN:VTIMEZONE
TZID:Europe/Madrid
X-LIC-LOCATION:Europe/Madrid
BEGIN:STANDARD
DTSTART;VALUE=DATE-TIME:20241027T020000
TZNAME:CET
TZOFFSETFROM:+0200
TZOFFSETTO:+0100
END:STANDARD
END:VTIMEZONE
END:VCALENDAR
