BEGIN:VCALENDAR
VERSION:2.0
PRODID:-//Plone.org//NONSGML plone.app.event//EN
X-WR-TIMEZONE:Europe/Madrid
BEGIN:VEVENT
SUMMARY:Hilo Directo con la Alcaldesa
DTSTART;TZID=Europe/Madrid;VALUE=DATE-TIME:20240129T140000
DTEND;TZID=Europe/Madrid;VALUE=DATE-TIME:20240129T150000
DTSTAMP;VALUE=DATE-TIME:20260423T171650Z
UID:c1150270532f4df6a82b03c39d4939ca@www.molletvalles.cat
CATEGORIES:Charlas
CREATED;VALUE=DATE-TIME:20240126T070934Z
LAST-MODIFIED;VALUE=DATE-TIME:20240126T070941Z
LOCATION:Radio Mollet
URL:https://www.molletvalles.cat/es/actualidad/agenda/hilo-directo-con-la-
 alcaldesa
END:VEVENT
BEGIN:VTIMEZONE
TZID:Europe/Madrid
X-LIC-LOCATION:Europe/Madrid
BEGIN:STANDARD
DTSTART;VALUE=DATE-TIME:20231029T020000
TZNAME:CET
TZOFFSETFROM:+0200
TZOFFSETTO:+0100
END:STANDARD
END:VTIMEZONE
END:VCALENDAR
