BEGIN:VCALENDAR
VERSION:2.0
PRODID:-//Plone.org//NONSGML plone.app.event//EN
X-WR-TIMEZONE:Europe/Madrid
BEGIN:VEVENT
SUMMARY:Hora del cuento: "Dragones\, rosas... ¡Sant Jordi!" con Núria Cl
 emares
DTSTART;TZID=Europe/Madrid;VALUE=DATE-TIME:20260424T173000
DTEND;TZID=Europe/Madrid;VALUE=DATE-TIME:20260424T183000
DTSTAMP;VALUE=DATE-TIME:20260422T004032Z
UID:cfb2c0d8ec5a4864ba177310fd77164c@www.molletvalles.cat
CATEGORIES:Infantil
CREATED;VALUE=DATE-TIME:20260421T062947Z
DESCRIPTION:SANT JORDI 2026
LAST-MODIFIED;VALUE=DATE-TIME:20260421T071949Z
URL:https://www.molletvalles.cat/es/actualidad/agenda/hora-del-cuento-drag
 ones-rosas-sant-jordi-con-nuria-clemares
END:VEVENT
BEGIN:VTIMEZONE
TZID:Europe/Madrid
X-LIC-LOCATION:Europe/Madrid
BEGIN:DAYLIGHT
DTSTART;VALUE=DATE-TIME:20260329T030000
TZNAME:CEST
TZOFFSETFROM:+0100
TZOFFSETTO:+0200
END:DAYLIGHT
END:VTIMEZONE
END:VCALENDAR
