BEGIN:VCALENDAR
VERSION:2.0
PRODID:-//Plone.org//NONSGML plone.app.event//EN
X-WR-TIMEZONE:Europe/Madrid
BEGIN:VEVENT
SUMMARY:I Campeonato de Cataluña de Marcha Nórdica
DTSTART;VALUE=DATE:20230611
DTEND;VALUE=DATE:20230612
DTSTAMP;VALUE=DATE-TIME:20260421T140435Z
UID:44492080ed3642eda26afe85a9a20fef@www.molletvalles.cat
CATEGORIES:Deportes
CREATED;VALUE=DATE-TIME:20230522T070418Z
LAST-MODIFIED;VALUE=DATE-TIME:20230522T070543Z
LOCATION:Gallecs
URL:https://www.molletvalles.cat/es/actualidad/agenda/i-campeonato-de-cata
 luna-de-marcha-nordica
END:VEVENT
END:VCALENDAR
