BEGIN:VCALENDAR
VERSION:2.0
PRODID:-//Plone.org//NONSGML plone.app.event//EN
X-WR-TIMEZONE:Europe/Madrid
BEGIN:VEVENT
SUMMARY:Inauguración de la exposición “Trazando el Museo” de Lluís 
 Soldevila en el Rincón del Artista
DTSTART;TZID=Europe/Madrid;VALUE=DATE-TIME:20250122T190000
DTEND;TZID=Europe/Madrid;VALUE=DATE-TIME:20250122T200000
DTSTAMP;VALUE=DATE-TIME:20260419T162006Z
UID:96c911dae9b44da8b214b9cd6fd896d0@www.molletvalles.cat
CATEGORIES:Exposiciones
CREATED;VALUE=DATE-TIME:20250117T095644Z
DESCRIPTION:FIESTA MAYOR DE INVIERNO
LAST-MODIFIED;VALUE=DATE-TIME:20250117T100100Z
URL:https://www.molletvalles.cat/es/actualidad/agenda/inauguracion-de-la-e
 xposicion-201ctrazando-el-museo201d-de-lluis-soldevila-en-el-rincon-del-ar
 tista
END:VEVENT
BEGIN:VTIMEZONE
TZID:Europe/Madrid
X-LIC-LOCATION:Europe/Madrid
BEGIN:STANDARD
DTSTART;VALUE=DATE-TIME:20241027T020000
TZNAME:CET
TZOFFSETFROM:+0200
TZOFFSETTO:+0100
END:STANDARD
END:VTIMEZONE
END:VCALENDAR
