BEGIN:VCALENDAR
VERSION:2.0
PRODID:-//Plone.org//NONSGML plone.app.event//EN
X-WR-TIMEZONE:Europe/Madrid
BEGIN:VEVENT
SUMMARY:Inauguración Exposición Artistas Anónimos: Joan Alfaro\, "Maque
 tas de papel"
DTSTART;TZID=Europe/Madrid;VALUE=DATE-TIME:20230114T120000
DTEND;TZID=Europe/Madrid;VALUE=DATE-TIME:20230114T130000
DTSTAMP;VALUE=DATE-TIME:20260419T162009Z
UID:7f43c03d26994520847b4f2ea81691f8@www.molletvalles.cat
CATEGORIES:Exposiciones y ferias
CREATED;VALUE=DATE-TIME:20230113T075206Z
LAST-MODIFIED;VALUE=DATE-TIME:20230209T081106Z
LOCATION:Centro Cultural La Marineta
URL:https://www.molletvalles.cat/es/actualidad/agenda/inauguracion-exposic
 ion-artistas-anonimos-joan-alfaro-maquetas-de-papel
END:VEVENT
BEGIN:VTIMEZONE
TZID:Europe/Madrid
X-LIC-LOCATION:Europe/Madrid
BEGIN:STANDARD
DTSTART;VALUE=DATE-TIME:20221030T020000
TZNAME:CET
TZOFFSETFROM:+0200
TZOFFSETTO:+0100
END:STANDARD
END:VTIMEZONE
END:VCALENDAR
