BEGIN:VCALENDAR
VERSION:2.0
PRODID:-//Plone.org//NONSGML plone.app.event//EN
X-WR-TIMEZONE:Europe/Madrid
BEGIN:VEVENT
SUMMARY:Inauguración exposición del pintor Manel Doblas\, vinculado a Mo
 llet del Vallès y gran amigo de Joan Abelló
DTSTART;TZID=Europe/Madrid;VALUE=DATE-TIME:20251127T190000
DTEND;TZID=Europe/Madrid;VALUE=DATE-TIME:20251127T200000
DTSTAMP;VALUE=DATE-TIME:20260419T162331Z
UID:b43eb0da5734443f96d3c9d19f5e4f34@www.molletvalles.cat
CATEGORIES:Exposiciones
CREATED;VALUE=DATE-TIME:20251112T133835Z
LAST-MODIFIED;VALUE=DATE-TIME:20251112T134116Z
URL:https://www.molletvalles.cat/es/actualidad/agenda/inauguracion-exposic
 ion-del-pintor-manel-doblas-vinculado-a-mollet-del-valles-y-gran-amigo-de-
 joan-abello
END:VEVENT
BEGIN:VTIMEZONE
TZID:Europe/Madrid
X-LIC-LOCATION:Europe/Madrid
BEGIN:STANDARD
DTSTART;VALUE=DATE-TIME:20251026T020000
TZNAME:CET
TZOFFSETFROM:+0200
TZOFFSETTO:+0100
END:STANDARD
END:VTIMEZONE
END:VCALENDAR
