BEGIN:VCALENDAR
VERSION:2.0
PRODID:-//Plone.org//NONSGML plone.app.event//EN
X-WR-TIMEZONE:Europe/Madrid
BEGIN:VEVENT
SUMMARY:Inauguración exposición: GALERIAS MARINETE. ABELLÓ 100 AÑOS. P
 rimeras exposiciones de Joan Abelló en Mollet 1942-1945
DTSTART;TZID=Europe/Madrid;VALUE=DATE-TIME:20230203T190000
DTEND;TZID=Europe/Madrid;VALUE=DATE-TIME:20230203T200000
DTSTAMP;VALUE=DATE-TIME:20260419T170308Z
UID:064a89bd7e3b4eaeaff7ae22a6590fce@www.molletvalles.cat
CREATED;VALUE=DATE-TIME:20230127T090147Z
DESCRIPTION:AÑO ABELLÓ
LAST-MODIFIED;VALUE=DATE-TIME:20230209T085428Z
LOCATION:La Marineta
URL:https://www.molletvalles.cat/es/actualidad/agenda/inauguracion-exposic
 ion-galerias-marinete-abello-100-anos-primeras-exposiciones-de-joan-abello
 -en-mollet-1942-1945
END:VEVENT
BEGIN:VTIMEZONE
TZID:Europe/Madrid
X-LIC-LOCATION:Europe/Madrid
BEGIN:STANDARD
DTSTART;VALUE=DATE-TIME:20221030T020000
TZNAME:CET
TZOFFSETFROM:+0200
TZOFFSETTO:+0100
END:STANDARD
END:VTIMEZONE
END:VCALENDAR
