BEGIN:VCALENDAR
VERSION:2.0
PRODID:-//Plone.org//NONSGML plone.app.event//EN
X-WR-TIMEZONE:Europe/Madrid
BEGIN:VEVENT
SUMMARY:Jornada: "Prostitución: una realidad que la sociedad y las admini
 straciones públicas deben abordar como violencia sexual"
DTSTART;TZID=Europe/Madrid;VALUE=DATE-TIME:20231201T173000
DTEND;TZID=Europe/Madrid;VALUE=DATE-TIME:20231201T183000
DTSTAMP;VALUE=DATE-TIME:20260419T162523Z
UID:905ad350a716462c9baa435d1978200c@www.molletvalles.cat
CATEGORIES:Charlas
CREATED;VALUE=DATE-TIME:20231117T114646Z
DESCRIPTION:25N DÍA INTERNACIONAL PARA LA ERRADICACIÓN DE LA VIOLENCIA H
 ACIA LAS MUJERES
LAST-MODIFIED;VALUE=DATE-TIME:20231124T124414Z
URL:https://www.molletvalles.cat/es/actualidad/agenda/jornada-prostitucion
 -una-realidad-que-la-sociedad-y-las-administraciones-publicas-deben-aborda
 r-como-violencia-sexual
END:VEVENT
BEGIN:VTIMEZONE
TZID:Europe/Madrid
X-LIC-LOCATION:Europe/Madrid
BEGIN:STANDARD
DTSTART;VALUE=DATE-TIME:20231029T020000
TZNAME:CET
TZOFFSETFROM:+0200
TZOFFSETTO:+0100
END:STANDARD
END:VTIMEZONE
END:VCALENDAR
