BEGIN:VCALENDAR
VERSION:2.0
PRODID:-//Plone.org//NONSGML plone.app.event//EN
X-WR-TIMEZONE:Europe/Madrid
BEGIN:VEVENT
SUMMARY:¡La alcaldesa contigo! En los barrios
DTSTART;VALUE=DATE:20260311
DTEND;VALUE=DATE:20260312
DTSTAMP;VALUE=DATE-TIME:20260420T063509Z
UID:ee599b235f32476e96392720e123ba83@www.molletvalles.cat
CATEGORIES:Actos de ciudad
CREATED;VALUE=DATE-TIME:20260305T064553Z
LAST-MODIFIED;VALUE=DATE-TIME:20260305T064742Z
LOCATION:Plaza Cinco Pinos y av. Caldes (esquina c. Ferrocarril)
URL:https://www.molletvalles.cat/es/actualidad/agenda/la-alcaldesa-contigo
 -en-los-barrios-4
END:VEVENT
END:VCALENDAR
