BEGIN:VCALENDAR
VERSION:2.0
PRODID:-//Plone.org//NONSGML plone.app.event//EN
X-WR-TIMEZONE:Europe/Madrid
BEGIN:VEVENT
SUMMARY:La hora del Cuento: "Cocinitas y pastitas". A cargo de Patio de Cu
 entos
DTSTART;TZID=Europe/Madrid;VALUE=DATE-TIME:20251024T173000
DTEND;TZID=Europe/Madrid;VALUE=DATE-TIME:20251024T183000
DTSTAMP;VALUE=DATE-TIME:20260421T140417Z
UID:105f2b9891804f4ea82132feedac7eeb@www.molletvalles.cat
CATEGORIES:Infantil
CREATED;VALUE=DATE-TIME:20250929T112652Z
LAST-MODIFIED;VALUE=DATE-TIME:20251006T101916Z
URL:https://www.molletvalles.cat/es/actualidad/agenda/la-hora-del-cuento-c
 ocinitas-y-pastillas-a-cargo-de-patio-de-cuentos
END:VEVENT
BEGIN:VTIMEZONE
TZID:Europe/Madrid
X-LIC-LOCATION:Europe/Madrid
BEGIN:DAYLIGHT
DTSTART;VALUE=DATE-TIME:20250330T030000
TZNAME:CEST
TZOFFSETFROM:+0100
TZOFFSETTO:+0200
END:DAYLIGHT
END:VTIMEZONE
END:VCALENDAR
