BEGIN:VCALENDAR
VERSION:2.0
PRODID:-//Plone.org//NONSGML plone.app.event//EN
X-WR-TIMEZONE:Europe/Madrid
BEGIN:VEVENT
SUMMARY:La hora del Cuento Menuda: "Amina Tolé!" . Cuentos y canciones de
  Senegal con la Caja de Luces
DTSTART;TZID=Europe/Madrid;VALUE=DATE-TIME:20260130T173000
DTEND;TZID=Europe/Madrid;VALUE=DATE-TIME:20260130T183000
DTSTAMP;VALUE=DATE-TIME:20260425T121841Z
UID:9d5dd5d10f51439b9137e64726aa5cfb@www.molletvalles.cat
CATEGORIES:Infantil
CREATED;VALUE=DATE-TIME:20260121T105003Z
LAST-MODIFIED;VALUE=DATE-TIME:20260121T124021Z
URL:https://www.molletvalles.cat/es/actualidad/agenda/la-hora-del-cuento-m
 enuda-amina-tole-cuentos-y-canciones-de-senegal-con-la-caja-de-luces
END:VEVENT
BEGIN:VTIMEZONE
TZID:Europe/Madrid
X-LIC-LOCATION:Europe/Madrid
BEGIN:STANDARD
DTSTART;VALUE=DATE-TIME:20251026T020000
TZNAME:CET
TZOFFSETFROM:+0200
TZOFFSETTO:+0100
END:STANDARD
END:VTIMEZONE
END:VCALENDAR
