BEGIN:VCALENDAR
VERSION:2.0
PRODID:-//Plone.org//NONSGML plone.app.event//EN
X-WR-TIMEZONE:Europe/Madrid
BEGIN:VEVENT
SUMMARY:La hora del Cuento Menuda: "Cuentos sobre la piel" con Elena Andr
 és
DTSTART;TZID=Europe/Madrid;VALUE=DATE-TIME:20251121T173000
DTEND;TZID=Europe/Madrid;VALUE=DATE-TIME:20251121T183000
DTSTAMP;VALUE=DATE-TIME:20260421T175058Z
UID:dcb3a31e8d564f69bc7c01ba015f3b63@www.molletvalles.cat
CATEGORIES:Infantil
CREATED;VALUE=DATE-TIME:20251107T113058Z
LAST-MODIFIED;VALUE=DATE-TIME:20251110T073236Z
URL:https://www.molletvalles.cat/es/actualidad/agenda/la-hora-del-cuento-m
 enuda-cuentos-sobre-la-piel-con-elena-andres
END:VEVENT
BEGIN:VTIMEZONE
TZID:Europe/Madrid
X-LIC-LOCATION:Europe/Madrid
BEGIN:STANDARD
DTSTART;VALUE=DATE-TIME:20251026T020000
TZNAME:CET
TZOFFSETFROM:+0200
TZOFFSETTO:+0100
END:STANDARD
END:VTIMEZONE
END:VCALENDAR
