BEGIN:VCALENDAR
VERSION:2.0
PRODID:-//Plone.org//NONSGML plone.app.event//EN
X-WR-TIMEZONE:Europe/Madrid
BEGIN:VEVENT
SUMMARY:La Hora del Cuento Menuda: "El camino de la Molly"\, con Sara Geno
 vart
DTSTART;TZID=Europe/Madrid;VALUE=DATE-TIME:20240126T173000
DTEND;TZID=Europe/Madrid;VALUE=DATE-TIME:20240126T183000
DTSTAMP;VALUE=DATE-TIME:20260421T140708Z
UID:b544f3ab6fda4398a1648f82c8b88f5b@www.molletvalles.cat
CATEGORIES:Infantil
CREATED;VALUE=DATE-TIME:20240118T111813Z
DESCRIPTION:FIESTA MAYOR DE INVIERNO
LAST-MODIFIED;VALUE=DATE-TIME:20240123T100508Z
URL:https://www.molletvalles.cat/es/actualidad/agenda/la-hora-del-cuento-m
 enuda-el-camino-de-la-molly-con-sara-genovart
END:VEVENT
BEGIN:VTIMEZONE
TZID:Europe/Madrid
X-LIC-LOCATION:Europe/Madrid
BEGIN:STANDARD
DTSTART;VALUE=DATE-TIME:20231029T020000
TZNAME:CET
TZOFFSETFROM:+0200
TZOFFSETTO:+0100
END:STANDARD
END:VTIMEZONE
END:VCALENDAR
