BEGIN:VCALENDAR
VERSION:2.0
PRODID:-//Plone.org//NONSGML plone.app.event//EN
X-WR-TIMEZONE:Europe/Madrid
BEGIN:VEVENT
SUMMARY:La ratita Martina y el Ratón Serafín (Compañía Deliri)
DTSTART;TZID=Europe/Madrid;VALUE=DATE-TIME:20230402T104500
DTEND;TZID=Europe/Madrid;VALUE=DATE-TIME:20230402T114500
DTSTAMP;VALUE=DATE-TIME:20260421T160352Z
UID:5fa5bb3d744c49219ebc52e93382ced0@www.molletvalles.cat
CATEGORIES:Infantil
CREATED;VALUE=DATE-TIME:20230327T111849Z
DESCRIPTION:MITMO 2023
LAST-MODIFIED;VALUE=DATE-TIME:20230331T101642Z
URL:https://www.molletvalles.cat/es/actualidad/agenda/la-ratita-martina-y-
 el-raton-serafin-compania-deliri
END:VEVENT
BEGIN:VTIMEZONE
TZID:Europe/Madrid
X-LIC-LOCATION:Europe/Madrid
BEGIN:DAYLIGHT
DTSTART;VALUE=DATE-TIME:20230326T030000
TZNAME:CEST
TZOFFSETFROM:+0100
TZOFFSETTO:+0200
END:DAYLIGHT
END:VTIMEZONE
END:VCALENDAR
