BEGIN:VCALENDAR
VERSION:2.0
PRODID:-//Plone.org//NONSGML plone.app.event//EN
X-WR-TIMEZONE:Europe/Madrid
BEGIN:VEVENT
SUMMARY:Las escuelas bailan\, con motivo del Día Internacional de la Danz
 a
DTSTART;TZID=Europe/Madrid;VALUE=DATE-TIME:20260429T103000
DTEND;TZID=Europe/Madrid;VALUE=DATE-TIME:20260429T113000
DTSTAMP;VALUE=DATE-TIME:20260422T230256Z
UID:112cca4d41be42d199a9214e4358376d@www.molletvalles.cat
CATEGORIES:Actos diversos
CREATED;VALUE=DATE-TIME:20260422T094403Z
LAST-MODIFIED;VALUE=DATE-TIME:20260422T113617Z
LOCATION:Parque de Can Mulà
URL:https://www.molletvalles.cat/es/actualidad/agenda/las-escuelas-bailan-
 con-motivo-del-dia-internacional-de-la-danza-1
END:VEVENT
BEGIN:VTIMEZONE
TZID:Europe/Madrid
X-LIC-LOCATION:Europe/Madrid
BEGIN:DAYLIGHT
DTSTART;VALUE=DATE-TIME:20260329T030000
TZNAME:CEST
TZOFFSETFROM:+0100
TZOFFSETTO:+0200
END:DAYLIGHT
END:VTIMEZONE
END:VCALENDAR
