BEGIN:VCALENDAR
VERSION:2.0
PRODID:-//Plone.org//NONSGML plone.app.event//EN
X-WR-TIMEZONE:Europe/Madrid
BEGIN:VEVENT
SUMMARY:Las Jornadas del síndic: Los Derechos Humanos en crisis
DTSTART;TZID=Europe/Madrid;VALUE=DATE-TIME:20251202T183000
DTEND;TZID=Europe/Madrid;VALUE=DATE-TIME:20251202T193000
DTSTAMP;VALUE=DATE-TIME:20260425T121716Z
UID:60de0cb26c5e414c83feb72986c42fb0@www.molletvalles.cat
CATEGORIES:Charlas
CREATED;VALUE=DATE-TIME:20251120T110653Z
LAST-MODIFIED;VALUE=DATE-TIME:20251120T110705Z
URL:https://www.molletvalles.cat/es/actualidad/agenda/las-jornadas-del-sin
 dic-los-derechos-humanos-en-crisis
END:VEVENT
BEGIN:VTIMEZONE
TZID:Europe/Madrid
X-LIC-LOCATION:Europe/Madrid
BEGIN:STANDARD
DTSTART;VALUE=DATE-TIME:20251026T020000
TZNAME:CET
TZOFFSETFROM:+0200
TZOFFSETTO:+0100
END:STANDARD
END:VTIMEZONE
END:VCALENDAR
