BEGIN:VCALENDAR
VERSION:2.0
PRODID:-//Plone.org//NONSGML plone.app.event//EN
X-WR-TIMEZONE:Europe/Madrid
BEGIN:VEVENT
SUMMARY:Lectura del manifiesto institucional con motivo del 25N y activida
 des
DTSTART;TZID=Europe/Madrid;VALUE=DATE-TIME:20251125T120000
DTEND;TZID=Europe/Madrid;VALUE=DATE-TIME:20251125T130000
DTSTAMP;VALUE=DATE-TIME:20260419T162309Z
UID:82ec82c5917b4e338fce446e0eaa47f6@www.molletvalles.cat
CATEGORIES:Actos diversos
CREATED;VALUE=DATE-TIME:20251103T130940Z
LAST-MODIFIED;VALUE=DATE-TIME:20251104T071711Z
LOCATION:Plaza Mayor\, 1 (delante de Casa de la Villa)
URL:https://www.molletvalles.cat/es/actualidad/agenda/lectura-de-manifiest
 o-institucional-con-motivo-del-25n-y-actuacion
END:VEVENT
BEGIN:VTIMEZONE
TZID:Europe/Madrid
X-LIC-LOCATION:Europe/Madrid
BEGIN:STANDARD
DTSTART;VALUE=DATE-TIME:20251026T020000
TZNAME:CET
TZOFFSETFROM:+0200
TZOFFSETTO:+0100
END:STANDARD
END:VTIMEZONE
END:VCALENDAR
