BEGIN:VCALENDAR
VERSION:2.0
PRODID:-//Plone.org//NONSGML plone.app.event//EN
X-WR-TIMEZONE:Europe/Madrid
BEGIN:VEVENT
SUMMARY:Lectura del manifiesto\, a cargo de la Asociación Suficientment c
 on motivo del Día Mundial de la Salud Mental
DTSTART;TZID=Europe/Madrid;VALUE=DATE-TIME:20241010T120000
DTEND;TZID=Europe/Madrid;VALUE=DATE-TIME:20241010T130000
DTSTAMP;VALUE=DATE-TIME:20260419T235134Z
UID:7fab50b1ec7b4e118762fabcd3ebe641@www.molletvalles.cat
CATEGORIES:Acte institucional
CREATED;VALUE=DATE-TIME:20240926T111025Z
LAST-MODIFIED;VALUE=DATE-TIME:20240926T115450Z
LOCATION:Plaza Mayor (delante del Ayuntamiento)
URL:https://www.molletvalles.cat/es/actualidad/agenda/lectura-del-manifies
 to-a-cargo-de-la-asociacion-suficientemente-con-motivo-del-dia-mundial-de-
 la-salud-mental
END:VEVENT
BEGIN:VTIMEZONE
TZID:Europe/Madrid
X-LIC-LOCATION:Europe/Madrid
BEGIN:DAYLIGHT
DTSTART;VALUE=DATE-TIME:20240331T030000
TZNAME:CEST
TZOFFSETFROM:+0100
TZOFFSETTO:+0200
END:DAYLIGHT
END:VTIMEZONE
END:VCALENDAR
