BEGIN:VCALENDAR
VERSION:2.0
PRODID:-//Plone.org//NONSGML plone.app.event//EN
X-WR-TIMEZONE:Europe/Madrid
BEGIN:VEVENT
SUMMARY:Lectura del manifiesto del Día Internacional de las Personas con 
 Discapacidad y reconocimiento público en Montse Tarrés
DTSTART;TZID=Europe/Madrid;VALUE=DATE-TIME:20251203T110000
DTEND;TZID=Europe/Madrid;VALUE=DATE-TIME:20251203T120000
DTSTAMP;VALUE=DATE-TIME:20260419T235426Z
UID:f63afb1bd4b2425a94e078619d9b963a@www.molletvalles.cat
CATEGORIES:Actos diversos
CREATED;VALUE=DATE-TIME:20251201T085022Z
LAST-MODIFIED;VALUE=DATE-TIME:20251201T085200Z
LOCATION:Centre Ocupacional del Bosc (c. Lluís Millet\, 7)
URL:https://www.molletvalles.cat/es/actualidad/agenda/lectura-del-manifies
 to-del-dia-internacional-de-las-personas-con-discapacidad-y-reconocimiento
 -publico-en-montse-tarres
END:VEVENT
BEGIN:VTIMEZONE
TZID:Europe/Madrid
X-LIC-LOCATION:Europe/Madrid
BEGIN:STANDARD
DTSTART;VALUE=DATE-TIME:20251026T020000
TZNAME:CET
TZOFFSETFROM:+0200
TZOFFSETTO:+0100
END:STANDARD
END:VTIMEZONE
END:VCALENDAR
