BEGIN:VCALENDAR
VERSION:2.0
PRODID:-//Plone.org//NONSGML plone.app.event//EN
X-WR-TIMEZONE:Europe/Madrid
BEGIN:VEVENT
SUMMARY:Lectura del Manifiesto Institucional\, con motivo del 8M
DTSTART;TZID=Europe/Madrid;VALUE=DATE-TIME:20260306T120000
DTEND;TZID=Europe/Madrid;VALUE=DATE-TIME:20260306T130000
DTSTAMP;VALUE=DATE-TIME:20260425T122048Z
UID:dcba0a1db12c4dda8ca2181b49a3b6a3@www.molletvalles.cat
CATEGORIES:Actos diversos
CREATED;VALUE=DATE-TIME:20260218T113058Z
LAST-MODIFIED;VALUE=DATE-TIME:20260218T120101Z
LOCATION:Plaza Mayor (ante Ayuntamiento)
URL:https://www.molletvalles.cat/es/actualidad/agenda/lectura-del-manifies
 to-institucional-con-motivo-del-8m
END:VEVENT
BEGIN:VTIMEZONE
TZID:Europe/Madrid
X-LIC-LOCATION:Europe/Madrid
BEGIN:STANDARD
DTSTART;VALUE=DATE-TIME:20251026T020000
TZNAME:CET
TZOFFSETFROM:+0200
TZOFFSETTO:+0100
END:STANDARD
END:VTIMEZONE
END:VCALENDAR
