BEGIN:VCALENDAR
VERSION:2.0
PRODID:-//Plone.org//NONSGML plone.app.event//EN
X-WR-TIMEZONE:Europe/Madrid
BEGIN:VEVENT
SUMMARY:Lectura en voz alta
DTSTART;TZID=Europe/Madrid;VALUE=DATE-TIME:20230830T180000
DTEND;TZID=Europe/Madrid;VALUE=DATE-TIME:20230830T190000
DTSTAMP;VALUE=DATE-TIME:20260421T135526Z
UID:17e2944fed2d42b8944c2c803b27a741@www.molletvalles.cat
CATEGORIES:Infantil
CREATED;VALUE=DATE-TIME:20230727T080808Z
LAST-MODIFIED;VALUE=DATE-TIME:20230727T080826Z
LOCATION:Abacus Mollet
URL:https://www.molletvalles.cat/es/actualidad/agenda/lectura-en-voz-alta-
 6
END:VEVENT
BEGIN:VTIMEZONE
TZID:Europe/Madrid
X-LIC-LOCATION:Europe/Madrid
BEGIN:DAYLIGHT
DTSTART;VALUE=DATE-TIME:20230326T030000
TZNAME:CEST
TZOFFSETFROM:+0100
TZOFFSETTO:+0200
END:DAYLIGHT
END:VTIMEZONE
END:VCALENDAR
