BEGIN:VCALENDAR
VERSION:2.0
PRODID:-//Plone.org//NONSGML plone.app.event//EN
X-WR-TIMEZONE:Europe/Madrid
BEGIN:VEVENT
SUMMARY:Marcha Cicloturista Pelegrí Pí
DTSTART;TZID=Europe/Madrid;VALUE=DATE-TIME:20231001T080000
DTEND;TZID=Europe/Madrid;VALUE=DATE-TIME:20231001T090000
DTSTAMP;VALUE=DATE-TIME:20260421T140359Z
UID:cacb395e3c2d42c09f4d4bf93201bd42@www.molletvalles.cat
CATEGORIES:Deportes
CREATED;VALUE=DATE-TIME:20230719T115031Z
LAST-MODIFIED;VALUE=DATE-TIME:20230929T081248Z
LOCATION:Salida: Pista Exterior Pabellón Municipal de Deportes Riera Seca
URL:https://www.molletvalles.cat/es/actualidad/agenda/marcha-cicloturista-
 pelegri-pi
END:VEVENT
BEGIN:VTIMEZONE
TZID:Europe/Madrid
X-LIC-LOCATION:Europe/Madrid
BEGIN:DAYLIGHT
DTSTART;VALUE=DATE-TIME:20230326T030000
TZNAME:CEST
TZOFFSETFROM:+0100
TZOFFSETTO:+0200
END:DAYLIGHT
END:VTIMEZONE
END:VCALENDAR
