BEGIN:VCALENDAR
VERSION:2.0
PRODID:-//Plone.org//NONSGML plone.app.event//EN
X-WR-TIMEZONE:Europe/Madrid
BEGIN:VEVENT
SUMMARY:Más digitales: Taller "Tu salud en el mundo digital"
DTSTART;TZID=Europe/Madrid;VALUE=DATE-TIME:20260311T153000
DTEND;TZID=Europe/Madrid;VALUE=DATE-TIME:20260506T173000
DTSTAMP;VALUE=DATE-TIME:20260424T210650Z
UID:2b4959159a614f20a2dd85d24256487d@www.molletvalles.cat
CATEGORIES:Cursos y talleres
CREATED;VALUE=DATE-TIME:20260210T102617Z
LAST-MODIFIED;VALUE=DATE-TIME:20260303T095342Z
URL:https://www.molletvalles.cat/es/actualidad/agenda/mas-digitales-taller
 -tu-salud-en-el-mundo-digital
END:VEVENT
BEGIN:VTIMEZONE
TZID:Europe/Madrid
X-LIC-LOCATION:Europe/Madrid
BEGIN:STANDARD
DTSTART;VALUE=DATE-TIME:20251026T020000
TZNAME:CET
TZOFFSETFROM:+0200
TZOFFSETTO:+0100
END:STANDARD
BEGIN:DAYLIGHT
DTSTART;VALUE=DATE-TIME:20260329T030000
TZNAME:CEST
TZOFFSETFROM:+0100
TZOFFSETTO:+0200
END:DAYLIGHT
END:VTIMEZONE
END:VCALENDAR
