BEGIN:VCALENDAR
VERSION:2.0
PRODID:-//Plone.org//NONSGML plone.app.event//EN
X-WR-TIMEZONE:Europe/Madrid
BEGIN:VEVENT
SUMMARY:Memorial Ezequiel Martín
DTSTART;VALUE=DATE:20260607
DTEND;VALUE=DATE:20260608
DTSTAMP;VALUE=DATE-TIME:20260421T065756Z
UID:8f09ed89addd47c297be1037ca276289@www.molletvalles.cat
CATEGORIES:Deportes
CREATED;VALUE=DATE-TIME:20260306T114452Z
LAST-MODIFIED;VALUE=DATE-TIME:20260317T104412Z
LOCATION:Pabellón Municipal de Deportes Riera Seca
URL:https://www.molletvalles.cat/es/actualidad/agenda/memorial-ezequiel-ma
 rtin-1
END:VEVENT
END:VCALENDAR
