BEGIN:VCALENDAR
VERSION:2.0
PRODID:-//Plone.org//NONSGML plone.app.event//EN
X-WR-TIMEZONE:Europe/Madrid
BEGIN:VEVENT
SUMMARY:Mercadillo de Segunda Mano
DTSTART;TZID=Europe/Madrid;VALUE=DATE-TIME:20250906T090000
DTEND;TZID=Europe/Madrid;VALUE=DATE-TIME:20250906T140000
DTSTAMP;VALUE=DATE-TIME:20260421T135637Z
UID:21c93ca9abb74e9d8f64bb8c9c8f8c78@www.molletvalles.cat
CATEGORIES:Ferias y mercados
CREATED;VALUE=DATE-TIME:20250310T090723Z
LAST-MODIFIED;VALUE=DATE-TIME:20250310T090736Z
LOCATION:Rambla de la Unión
URL:https://www.molletvalles.cat/es/actualidad/agenda/mercadillo-de-segund
 a-mano-51
END:VEVENT
BEGIN:VTIMEZONE
TZID:Europe/Madrid
X-LIC-LOCATION:Europe/Madrid
BEGIN:DAYLIGHT
DTSTART;VALUE=DATE-TIME:20250330T030000
TZNAME:CEST
TZOFFSETFROM:+0100
TZOFFSETTO:+0200
END:DAYLIGHT
END:VTIMEZONE
END:VCALENDAR
