BEGIN:VCALENDAR
VERSION:2.0
PRODID:-//Plone.org//NONSGML plone.app.event//EN
X-WR-TIMEZONE:Europe/Madrid
BEGIN:VEVENT
SUMMARY:Mercadillo de Segunda Mano
DTSTART;TZID=Europe/Madrid;VALUE=DATE-TIME:20260502T090000
DTEND;TZID=Europe/Madrid;VALUE=DATE-TIME:20260502T140000
DTSTAMP;VALUE=DATE-TIME:20260421T182704Z
UID:1b78f868101e4ca9b08cbcca1c0ca613@www.molletvalles.cat
CATEGORIES:Ferias y mercados
CREATED;VALUE=DATE-TIME:20260226T102347Z
LAST-MODIFIED;VALUE=DATE-TIME:20260226T102403Z
LOCATION:Rambla de la Unión
URL:https://www.molletvalles.cat/es/actualidad/agenda/mercadillo-de-segund
 a-mano-82
END:VEVENT
BEGIN:VTIMEZONE
TZID:Europe/Madrid
X-LIC-LOCATION:Europe/Madrid
BEGIN:DAYLIGHT
DTSTART;VALUE=DATE-TIME:20260329T030000
TZNAME:CEST
TZOFFSETFROM:+0100
TZOFFSETTO:+0200
END:DAYLIGHT
END:VTIMEZONE
END:VCALENDAR
