BEGIN:VCALENDAR
VERSION:2.0
PRODID:-//Plone.org//NONSGML plone.app.event//EN
X-WR-TIMEZONE:Europe/Madrid
BEGIN:VEVENT
SUMMARY:Misa Rociera del Centro Cultural Andaluz\, con motivo de la celebr
 ación del Día de Andalucía
DTSTART;TZID=Europe/Madrid;VALUE=DATE-TIME:20250309T103000
DTEND;TZID=Europe/Madrid;VALUE=DATE-TIME:20250309T113000
DTSTAMP;VALUE=DATE-TIME:20260419T162503Z
UID:57292c45d4cd4116aedc6fe1d2803edf@www.molletvalles.cat
CATEGORIES:Actos diversos
CREATED;VALUE=DATE-TIME:20250220T114844Z
LAST-MODIFIED;VALUE=DATE-TIME:20250306T080115Z
URL:https://www.molletvalles.cat/es/actualidad/agenda/misa-rociera-del-cen
 tro-cultural-andaluz-con-motivo-de-la-celebracion-del-dia-de-andalucia
END:VEVENT
BEGIN:VTIMEZONE
TZID:Europe/Madrid
X-LIC-LOCATION:Europe/Madrid
BEGIN:STANDARD
DTSTART;VALUE=DATE-TIME:20241027T020000
TZNAME:CET
TZOFFSETFROM:+0200
TZOFFSETTO:+0100
END:STANDARD
END:VTIMEZONE
END:VCALENDAR
