BEGIN:VCALENDAR
VERSION:2.0
PRODID:-//Plone.org//NONSGML plone.app.event//EN
X-WR-TIMEZONE:Europe/Madrid
BEGIN:VEVENT
SUMMARY:Mollet-el Papiol\, del tren nuclear al transporte combinado
DTSTART;TZID=Europe/Madrid;VALUE=DATE-TIME:20241119T190000
DTEND;TZID=Europe/Madrid;VALUE=DATE-TIME:20241119T200000
DTSTAMP;VALUE=DATE-TIME:20260421T140022Z
UID:c78dd27c47a34bbfa612cad6c2d9f910@www.molletvalles.cat
CATEGORIES:Charlas
CREATED;VALUE=DATE-TIME:20241029T093604Z
DESCRIPTION:XXV Jornadas del Centre d’Estudis Molletans: Próxima estaci
 ón\, Mollet
LAST-MODIFIED;VALUE=DATE-TIME:20241029T093613Z
URL:https://www.molletvalles.cat/es/actualidad/agenda/mollet-el-papiol-del
 -tren-nuclear-al-transporte-combinado
END:VEVENT
BEGIN:VTIMEZONE
TZID:Europe/Madrid
X-LIC-LOCATION:Europe/Madrid
BEGIN:STANDARD
DTSTART;VALUE=DATE-TIME:20241027T020000
TZNAME:CET
TZOFFSETFROM:+0200
TZOFFSETTO:+0100
END:STANDARD
END:VTIMEZONE
END:VCALENDAR
