BEGIN:VCALENDAR
VERSION:2.0
PRODID:-//Plone.org//NONSGML plone.app.event//EN
X-WR-TIMEZONE:Europe/Madrid
BEGIN:VEVENT
SUMMARY:Muestra de Danza de la Escuela de danza Assaig
DTSTART;TZID=Europe/Madrid;VALUE=DATE-TIME:20260425T100000
DTEND;TZID=Europe/Madrid;VALUE=DATE-TIME:20260425T110000
DTSTAMP;VALUE=DATE-TIME:20260425T040113Z
UID:18f0cf71033349e8a02728b264bf6059@www.molletvalles.cat
CATEGORIES:Artes escénicas
CREATED;VALUE=DATE-TIME:20260424T093027Z
LAST-MODIFIED;VALUE=DATE-TIME:20260424T093042Z
LOCATION:Parque de Les Pruneres
URL:https://www.molletvalles.cat/es/actualidad/agenda/muestra-de-danza-de-
 la-escuela-de-danza-assaig
END:VEVENT
BEGIN:VTIMEZONE
TZID:Europe/Madrid
X-LIC-LOCATION:Europe/Madrid
BEGIN:DAYLIGHT
DTSTART;VALUE=DATE-TIME:20260329T030000
TZNAME:CEST
TZOFFSETFROM:+0100
TZOFFSETTO:+0200
END:DAYLIGHT
END:VTIMEZONE
END:VCALENDAR
