BEGIN:VCALENDAR
VERSION:2.0
PRODID:-//Plone.org//NONSGML plone.app.event//EN
X-WR-TIMEZONE:Europe/Madrid
BEGIN:VEVENT
SUMMARY:MUESTRA DE LAS ESCUELAS DE DANZA DE LA CIUDAD
DTSTART;TZID=Europe/Madrid;VALUE=DATE-TIME:20260429T180000
DTEND;TZID=Europe/Madrid;VALUE=DATE-TIME:20260429T190000
DTSTAMP;VALUE=DATE-TIME:20260422T225944Z
UID:043842f6e6234571ae616aec3968d26f@www.molletvalles.cat
CATEGORIES:Artes escénicas
CREATED;VALUE=DATE-TIME:20260422T103700Z
LAST-MODIFIED;VALUE=DATE-TIME:20260422T114011Z
LOCATION:Parque de Les Pruneres
URL:https://www.molletvalles.cat/es/actualidad/agenda/muestra-de-las-escue
 las-de-danza-de-la-ciudad-2
END:VEVENT
BEGIN:VTIMEZONE
TZID:Europe/Madrid
X-LIC-LOCATION:Europe/Madrid
BEGIN:DAYLIGHT
DTSTART;VALUE=DATE-TIME:20260329T030000
TZNAME:CEST
TZOFFSETFROM:+0100
TZOFFSETTO:+0200
END:DAYLIGHT
END:VTIMEZONE
END:VCALENDAR
