BEGIN:VCALENDAR
VERSION:2.0
PRODID:-//Plone.org//NONSGML plone.app.event//EN
X-WR-TIMEZONE:Europe/Madrid
BEGIN:VEVENT
SUMMARY:Muestra del taller "¡Qué la vida te coja cantando! y a continuac
 ión Baile de hermandad y merienda
DTSTART;TZID=Europe/Madrid;VALUE=DATE-TIME:20250516T170000
DTEND;TZID=Europe/Madrid;VALUE=DATE-TIME:20250516T180000
DTSTAMP;VALUE=DATE-TIME:20260419T221526Z
UID:96ac98be75e84c9c9816b6d795ec6bbc@www.molletvalles.cat
CATEGORIES:Actos diversos
CREATED;VALUE=DATE-TIME:20250505T113920Z
DESCRIPTION:POR MUCHOS AÑOS!
LAST-MODIFIED;VALUE=DATE-TIME:20250506T070557Z
URL:https://www.molletvalles.cat/es/actualidad/agenda/muestra-del-taller-q
 ue-la-vida-te-coja-cantando-y-a-continuacion-baile-de-hermandad-y-merienda
 -1
END:VEVENT
BEGIN:VTIMEZONE
TZID:Europe/Madrid
X-LIC-LOCATION:Europe/Madrid
BEGIN:DAYLIGHT
DTSTART;VALUE=DATE-TIME:20250330T030000
TZNAME:CEST
TZOFFSETFROM:+0100
TZOFFSETTO:+0200
END:DAYLIGHT
END:VTIMEZONE
END:VCALENDAR
