BEGIN:VCALENDAR
VERSION:2.0
PRODID:-//Plone.org//NONSGML plone.app.event//EN
X-WR-TIMEZONE:Europe/Madrid
BEGIN:VEVENT
SUMMARY:Noche de DJ - Iniciativa Juvenil
DTSTART;TZID=Europe/Madrid;VALUE=DATE-TIME:20250322T220000
DTEND;TZID=Europe/Madrid;VALUE=DATE-TIME:20250322T230000
DTSTAMP;VALUE=DATE-TIME:20260421T140216Z
UID:5709ab1bda0543d9b0a756de99f613bf@www.molletvalles.cat
CATEGORIES:Baile
CREATED;VALUE=DATE-TIME:20250124T114656Z
LAST-MODIFIED;VALUE=DATE-TIME:20250312T072133Z
URL:https://www.molletvalles.cat/es/actualidad/agenda/noche-de-dj-iniciati
 va-juvenil-1
END:VEVENT
BEGIN:VTIMEZONE
TZID:Europe/Madrid
X-LIC-LOCATION:Europe/Madrid
BEGIN:STANDARD
DTSTART;VALUE=DATE-TIME:20241027T020000
TZNAME:CET
TZOFFSETFROM:+0200
TZOFFSETTO:+0100
END:STANDARD
END:VTIMEZONE
END:VCALENDAR
