BEGIN:VCALENDAR
VERSION:2.0
PRODID:-//Plone.org//NONSGML plone.app.event//EN
X-WR-TIMEZONE:Europe/Madrid
BEGIN:VEVENT
SUMMARY:Noches Gastronómicas - Recetas con base vegetal
DTSTART;TZID=Europe/Madrid;VALUE=DATE-TIME:20260514T190000
DTEND;TZID=Europe/Madrid;VALUE=DATE-TIME:20260514T200000
DTSTAMP;VALUE=DATE-TIME:20260425T042017Z
UID:746898d87948497db323ba0663542c7d@www.molletvalles.cat
CATEGORIES:Cursos i talleres
CREATED;VALUE=DATE-TIME:20260424T104215Z
LAST-MODIFIED;VALUE=DATE-TIME:20260424T105434Z
URL:https://www.molletvalles.cat/es/actualidad/agenda/noches-gastronomicas
 -recetas-con-base-vegetal
END:VEVENT
BEGIN:VTIMEZONE
TZID:Europe/Madrid
X-LIC-LOCATION:Europe/Madrid
BEGIN:DAYLIGHT
DTSTART;VALUE=DATE-TIME:20260329T030000
TZNAME:CEST
TZOFFSETFROM:+0100
TZOFFSETTO:+0200
END:DAYLIGHT
END:VTIMEZONE
END:VCALENDAR
